BEGIN:VCALENDAR
VERSION:2.0
PRODID:-//Clermont Show - The Isaac Region’s Show - ECPv4.4.4//NONSGML v1.0//EN
CALSCALE:GREGORIAN
METHOD:PUBLISH
X-WR-CALNAME:Clermont Show - The Isaac Region’s Show
X-ORIGINAL-URL:http://clermontshow.com.au
X-WR-CALDESC:Events for Clermont Show - The Isaac Region’s Show
BEGIN:VEVENT
DTSTART;VALUE=DATE:20190527
DTEND;VALUE=DATE:20190529
DTSTAMP:20210301T040311
CREATED:20190131T104936Z
LAST-MODIFIED:20190131T104936Z
UID:2642-1558915200-1559174399@clermontshow.com.au
SUMMARY:2019 Clermont Show - The Isaac Region's Show
DESCRIPTION:Get along to the Clermont Show - The Isaac Region's Show.\n\nMonday 27th\, Tuesday 28th & Wednesday the 29th of May.\n\nSo much to do\, so much to see. Stay tuned for more information!\n\nFor enquiries\, please contact admin@clermontshow.com.au
URL:http://clermontshow.com.au/event/2019-clermont-show-isaac-regions-show/
LOCATION:Clermont\, Queensland\, 4721\, Australia
ORGANIZER;CN="Clermont%20Show":MAILTO:admin@clermontshow.com
END:VEVENT
END:VCALENDAR