BEGIN:VCALENDAR
VERSION:2.0
PRODID:-//Clermont Show - The Isaac Region’s Show - ECPv4.4.4//NONSGML v1.0//EN
CALSCALE:GREGORIAN
METHOD:PUBLISH
X-WR-CALNAME:Clermont Show - The Isaac Region’s Show
X-ORIGINAL-URL:http://clermontshow.com.au
X-WR-CALDESC:Events for Clermont Show - The Isaac Region’s Show
BEGIN:VEVENT
DTSTART;TZID=Australia/Brisbane:20170529T143000
DTEND;TZID=Australia/Brisbane:20170529T170000
DTSTAMP:20210301T040129
CREATED:20170516T005943Z
LAST-MODIFIED:20170516T005943Z
UID:2529-1496068200-1496077200@clermontshow.com.au
SUMMARY:Bull Sale
DESCRIPTION:
URL:http://clermontshow.com.au/event/bull-sale/
END:VEVENT
END:VCALENDAR