BEGIN:VCALENDAR
VERSION:2.0
PRODID:-//Clermont Show - The Isaac Region’s Show - ECPv4.4.4//NONSGML v1.0//EN
CALSCALE:GREGORIAN
METHOD:PUBLISH
X-WR-CALNAME:Clermont Show - The Isaac Region’s Show
X-ORIGINAL-URL:http://clermontshow.com.au
X-WR-CALDESC:Events for Clermont Show - The Isaac Region’s Show
BEGIN:VEVENT
DTSTART;TZID=Australia/Brisbane:20170530T070000
DTEND;TZID=Australia/Brisbane:20170530T100000
DTSTAMP:20210301T040143
CREATED:20170402T025626Z
LAST-MODIFIED:20170402T025859Z
UID:2498-1496127600-1496138400@clermontshow.com.au
SUMMARY:Pavilion Div A\, B\, C\, K Nominations Accepted
DESCRIPTION:If you are entering for the following sections\, they must be given to the pavilion staff between 7am - 10am Tuesday May 30.\n\nDivision A – Home Produce\, Tuesday\, 30th May\, 7am to 10am\nDivision B – Horticulture\, Tuesday\, 30th May\, 7am to 10am\nDivision C – Floral Art\, Tuesday\, 30th May\, 7am to 10am\nDivision K – Cooking\, Tuesday\, 30th May\,7am to 9.45am\n\n \n\nFor more information check out the 2017 Pavilion - Clermont Show - Schedule
URL:http://clermontshow.com.au/event/home-produce-nominations/
END:VEVENT
END:VCALENDAR